BEGIN:VCALENDAR
VERSION:2.0
PRODID:-//Leichtag Foundation - ECPv6.15.11//NONSGML v1.0//EN
CALSCALE:GREGORIAN
METHOD:PUBLISH
X-WR-CALNAME:Leichtag Foundation
X-ORIGINAL-URL:https://leichtag.org
X-WR-CALDESC:Events for Leichtag Foundation
REFRESH-INTERVAL;VALUE=DURATION:PT1H
X-Robots-Tag:noindex
X-PUBLISHED-TTL:PT1H
BEGIN:VTIMEZONE
TZID:America/Los_Angeles
BEGIN:DAYLIGHT
TZOFFSETFROM:-0800
TZOFFSETTO:-0700
TZNAME:PDT
DTSTART:20240310T100000
END:DAYLIGHT
BEGIN:STANDARD
TZOFFSETFROM:-0700
TZOFFSETTO:-0800
TZNAME:PST
DTSTART:20241103T090000
END:STANDARD
BEGIN:DAYLIGHT
TZOFFSETFROM:-0800
TZOFFSETTO:-0700
TZNAME:PDT
DTSTART:20250309T100000
END:DAYLIGHT
BEGIN:STANDARD
TZOFFSETFROM:-0700
TZOFFSETTO:-0800
TZNAME:PST
DTSTART:20251102T090000
END:STANDARD
BEGIN:DAYLIGHT
TZOFFSETFROM:-0800
TZOFFSETTO:-0700
TZNAME:PDT
DTSTART:20260308T100000
END:DAYLIGHT
BEGIN:STANDARD
TZOFFSETFROM:-0700
TZOFFSETTO:-0800
TZNAME:PST
DTSTART:20261101T090000
END:STANDARD
END:VTIMEZONE
BEGIN:VEVENT
DTSTART;TZID=America/Los_Angeles:20251114T090000
DTEND;TZID=America/Los_Angeles:20251114T100000
DTSTAMP:20260420T033017
CREATED:20251031T012214Z
LAST-MODIFIED:20251031T012214Z
UID:24805-1763110800-1763114400@leichtag.org
SUMMARY:Fundraising Fridays
DESCRIPTION:Join local colleagues in philanthropy for this informal\, virtual time to check in with one another\, ask questions\, and get advice on fundraising matters. \n  \n \n  \nLoading…
URL:https://leichtag.org/event/fundraising-fridays-19/
LOCATION:via Zoom\, CA
CATEGORIES:The HIVE
ATTACH;FMTTYPE=image/png:https://leichtag.org/wp-content/uploads/2025/07/new-Fundraising-Fridays-Insta-Web-1.png
END:VEVENT
BEGIN:VEVENT
DTSTART;TZID=America/Los_Angeles:20251107T090000
DTEND;TZID=America/Los_Angeles:20251107T100000
DTSTAMP:20260420T033017
CREATED:20251031T012052Z
LAST-MODIFIED:20251031T012052Z
UID:24803-1762506000-1762509600@leichtag.org
SUMMARY:Fundraising Fridays
DESCRIPTION:Join local colleagues in philanthropy for this informal\, virtual time to check in with one another\, ask questions\, and get advice on fundraising matters. \n  \n \n  \nLoading…
URL:https://leichtag.org/event/fundraising-fridays-18/
LOCATION:via Zoom\, CA
CATEGORIES:The HIVE
ATTACH;FMTTYPE=image/png:https://leichtag.org/wp-content/uploads/2025/07/new-Fundraising-Fridays-Insta-Web-1.png
END:VEVENT
BEGIN:VEVENT
DTSTART;TZID=America/Los_Angeles:20251031T090000
DTEND;TZID=America/Los_Angeles:20251031T100000
DTSTAMP:20260420T033017
CREATED:20250927T041352Z
LAST-MODIFIED:20250927T041442Z
UID:24794-1761901200-1761904800@leichtag.org
SUMMARY:Fundraising Fridays
DESCRIPTION:Join local colleagues in philanthropy for this informal\, virtual time to check in with one another\, ask questions\, and get advice on fundraising matters. \n  \n \n  \nLoading…
URL:https://leichtag.org/event/fundraising-fridays-17/
LOCATION:via Zoom\, CA
CATEGORIES:The HIVE
ATTACH;FMTTYPE=image/png:https://leichtag.org/wp-content/uploads/2025/07/new-Fundraising-Fridays-Insta-Web-1.png
END:VEVENT
BEGIN:VEVENT
DTSTART;TZID=America/Los_Angeles:20251024T090000
DTEND;TZID=America/Los_Angeles:20251024T100000
DTSTAMP:20260420T033017
CREATED:20250927T041318Z
LAST-MODIFIED:20250927T041318Z
UID:24792-1761296400-1761300000@leichtag.org
SUMMARY:Fundraising Fridays
DESCRIPTION:Join local colleagues in philanthropy for this informal\, virtual time to check in with one another\, ask questions\, and get advice on fundraising matters. \n  \n \n  \nLoading…
URL:https://leichtag.org/event/fundraising-fridays-16/
LOCATION:via Zoom\, CA
CATEGORIES:The HIVE
ATTACH;FMTTYPE=image/png:https://leichtag.org/wp-content/uploads/2025/07/new-Fundraising-Fridays-Insta-Web-1.png
END:VEVENT
BEGIN:VEVENT
DTSTART;TZID=America/Los_Angeles:20251017T090000
DTEND;TZID=America/Los_Angeles:20251017T100000
DTSTAMP:20260420T033017
CREATED:20250927T041232Z
LAST-MODIFIED:20250927T041232Z
UID:24790-1760691600-1760695200@leichtag.org
SUMMARY:Fundraising Fridays
DESCRIPTION:Join local colleagues in philanthropy for this informal\, virtual time to check in with one another\, ask questions\, and get advice on fundraising matters. \n  \n \n  \nLoading…
URL:https://leichtag.org/event/fundraising-fridays-15/
LOCATION:via Zoom\, CA
CATEGORIES:The HIVE
ATTACH;FMTTYPE=image/png:https://leichtag.org/wp-content/uploads/2025/07/new-Fundraising-Fridays-Insta-Web-1.png
END:VEVENT
BEGIN:VEVENT
DTSTART;TZID=America/Los_Angeles:20251010T090000
DTEND;TZID=America/Los_Angeles:20251010T100000
DTSTAMP:20260420T033017
CREATED:20250927T041152Z
LAST-MODIFIED:20250927T041159Z
UID:24788-1760086800-1760090400@leichtag.org
SUMMARY:Fundraising Fridays
DESCRIPTION:Join local colleagues in philanthropy for this informal\, virtual time to check in with one another\, ask questions\, and get advice on fundraising matters. \n  \n \n  \nLoading…
URL:https://leichtag.org/event/fundraising-fridays-14/
LOCATION:via Zoom\, CA
CATEGORIES:The HIVE
ATTACH;FMTTYPE=image/png:https://leichtag.org/wp-content/uploads/2025/07/new-Fundraising-Fridays-Insta-Web-1.png
END:VEVENT
BEGIN:VEVENT
DTSTART;TZID=America/Los_Angeles:20251003T090000
DTEND;TZID=America/Los_Angeles:20251003T100000
DTSTAMP:20260420T033017
CREATED:20250927T041045Z
LAST-MODIFIED:20250927T041045Z
UID:24786-1759482000-1759485600@leichtag.org
SUMMARY:Fundraising Fridays
DESCRIPTION:Join local colleagues in philanthropy for this informal\, virtual time to check in with one another\, ask questions\, and get advice on fundraising matters. \n  \n \n  \nLoading…
URL:https://leichtag.org/event/fundraising-fridays-13/
LOCATION:via Zoom\, CA
CATEGORIES:The HIVE
ATTACH;FMTTYPE=image/png:https://leichtag.org/wp-content/uploads/2025/07/new-Fundraising-Fridays-Insta-Web-1.png
END:VEVENT
BEGIN:VEVENT
DTSTART;TZID=America/Los_Angeles:20250926T090000
DTEND;TZID=America/Los_Angeles:20250926T100000
DTSTAMP:20260420T033017
CREATED:20250908T233123Z
LAST-MODIFIED:20250908T233123Z
UID:17722-1758877200-1758880800@leichtag.org
SUMMARY:Fundraising Fridays
DESCRIPTION:Join local colleagues in philanthropy for this informal\, virtual time to check in with one another\, ask questions\, and get advice on fundraising matters. \n  \n \n  \nLoading…
URL:https://leichtag.org/event/fundraising-fridays-12/
LOCATION:via Zoom\, CA
CATEGORIES:The HIVE
ATTACH;FMTTYPE=image/png:https://leichtag.org/wp-content/uploads/2025/07/new-Fundraising-Fridays-Insta-Web-1.png
END:VEVENT
BEGIN:VEVENT
DTSTART;TZID=America/Los_Angeles:20250919T090000
DTEND;TZID=America/Los_Angeles:20250919T100000
DTSTAMP:20260420T033017
CREATED:20250908T233006Z
LAST-MODIFIED:20250908T233037Z
UID:17720-1758272400-1758276000@leichtag.org
SUMMARY:Fundraising Fridays
DESCRIPTION:Join local colleagues in philanthropy for this informal\, virtual time to check in with one another\, ask questions\, and get advice on fundraising matters. \n  \n \n  \nLoading…
URL:https://leichtag.org/event/fundraising-fridays-11/
LOCATION:via Zoom\, CA
CATEGORIES:The HIVE
ATTACH;FMTTYPE=image/png:https://leichtag.org/wp-content/uploads/2025/07/new-Fundraising-Fridays-Insta-Web-1.png
END:VEVENT
BEGIN:VEVENT
DTSTART;TZID=America/Los_Angeles:20250912T090000
DTEND;TZID=America/Los_Angeles:20250912T100000
DTSTAMP:20260420T033017
CREATED:20250829T223639Z
LAST-MODIFIED:20250829T223639Z
UID:17716-1757667600-1757671200@leichtag.org
SUMMARY:Fundraising Fridays
DESCRIPTION:Join local colleagues in philanthropy for this informal\, virtual time to check in with one another\, ask questions\, and get advice on fundraising matters. \n  \n \n  \nLoading…
URL:https://leichtag.org/event/fundraising-fridays-10/
LOCATION:via Zoom\, CA
CATEGORIES:The HIVE
ATTACH;FMTTYPE=image/png:https://leichtag.org/wp-content/uploads/2025/07/new-Fundraising-Fridays-Insta-Web-1.png
END:VEVENT
BEGIN:VEVENT
DTSTART;TZID=America/Los_Angeles:20250905T090000
DTEND;TZID=America/Los_Angeles:20250905T100000
DTSTAMP:20260420T033017
CREATED:20250821T230402Z
LAST-MODIFIED:20250821T230729Z
UID:17713-1757062800-1757066400@leichtag.org
SUMMARY:Fundraising Fridays
DESCRIPTION:Join local colleagues in philanthropy for this informal\, virtual time to check in with one another\, ask questions\, and get advice on fundraising matters. \n  \n \n  \nLoading…
URL:https://leichtag.org/event/fundraising-fridays-9/
LOCATION:via Zoom\, CA
CATEGORIES:The HIVE
ATTACH;FMTTYPE=image/png:https://leichtag.org/wp-content/uploads/2025/07/new-Fundraising-Fridays-Insta-Web-1.png
END:VEVENT
BEGIN:VEVENT
DTSTART;TZID=America/Los_Angeles:20250822T090000
DTEND;TZID=America/Los_Angeles:20250822T100000
DTSTAMP:20260420T033017
CREATED:20250716T190422Z
LAST-MODIFIED:20250728T195613Z
UID:17693-1755853200-1755856800@leichtag.org
SUMMARY:Fundraising Fridays
DESCRIPTION:Join local colleagues in philanthropy for this informal\, virtual time to check in with one another\, ask questions\, and get advice on fundraising matters. \n  \n \n  \nLoading…
URL:https://leichtag.org/event/fundraising-fridays-august-22-25/
LOCATION:via Zoom\, CA
CATEGORIES:The HIVE
ATTACH;FMTTYPE=image/png:https://leichtag.org/wp-content/uploads/2025/07/new-Fundraising-Fridays-Insta-Web-1.png
END:VEVENT
BEGIN:VEVENT
DTSTART;TZID=America/Los_Angeles:20250815T090000
DTEND;TZID=America/Los_Angeles:20250815T100000
DTSTAMP:20260420T033017
CREATED:20250716T190243Z
LAST-MODIFIED:20250728T195530Z
UID:17691-1755248400-1755252000@leichtag.org
SUMMARY:Fundraising Fridays
DESCRIPTION:Join local colleagues in philanthropy for this informal\, virtual time to check in with one another\, ask questions\, and get advice on fundraising matters. \n  \n \n  \nLoading…
URL:https://leichtag.org/event/fundraising-fridays-august-15-25/
LOCATION:via Zoom\, CA
CATEGORIES:The HIVE
ATTACH;FMTTYPE=image/png:https://leichtag.org/wp-content/uploads/2025/07/new-Fundraising-Fridays-Insta-Web-1.png
END:VEVENT
BEGIN:VEVENT
DTSTART;TZID=America/Los_Angeles:20250808T090000
DTEND;TZID=America/Los_Angeles:20250808T100000
DTSTAMP:20260420T033017
CREATED:20250716T190109Z
LAST-MODIFIED:20250728T195237Z
UID:17688-1754643600-1754647200@leichtag.org
SUMMARY:Fundraising Fridays
DESCRIPTION:Join local colleagues in philanthropy for this informal\, virtual time to check in with one another\, ask questions\, and get advice on fundraising matters. \n  \n \n  \nLoading…
URL:https://leichtag.org/event/fundraising-fridays-august-8-2025/
LOCATION:via Zoom\, CA
CATEGORIES:The HIVE
ATTACH;FMTTYPE=image/png:https://leichtag.org/wp-content/uploads/2025/07/new-Fundraising-Fridays-Insta-Web-1.png
END:VEVENT
BEGIN:VEVENT
DTSTART;TZID=America/Los_Angeles:20250801T090000
DTEND;TZID=America/Los_Angeles:20250801T100000
DTSTAMP:20260420T033017
CREATED:20250716T185940Z
LAST-MODIFIED:20250716T185940Z
UID:17686-1754038800-1754042400@leichtag.org
SUMMARY:Fundraising Fridays
DESCRIPTION:Join local colleagues in philanthropy for this informal\, virtual time to check in with one another\, ask questions\, and get advice on fundraising matters. \n  \n \n  \n﻿﻿﻿﻿﻿﻿
URL:https://leichtag.org/event/fundraising-fridays-august-1-2025/
LOCATION:via Zoom\, CA
CATEGORIES:The HIVE
ATTACH;FMTTYPE=image/png:https://leichtag.org/wp-content/uploads/2025/07/new-Fundraising-Fridays-Insta-Web-1.png
END:VEVENT
BEGIN:VEVENT
DTSTART;TZID=America/Los_Angeles:20250725T090000
DTEND;TZID=America/Los_Angeles:20250725T100000
DTSTAMP:20260420T033017
CREATED:20250716T185556Z
LAST-MODIFIED:20250716T185556Z
UID:17684-1753434000-1753437600@leichtag.org
SUMMARY:Fundraising Fridays
DESCRIPTION:Join local colleagues in philanthropy for this informal\, virtual time to check in with one another\, ask questions\, and get advice on fundraising matters. \n  \n \n  \n﻿﻿﻿﻿﻿
URL:https://leichtag.org/event/fundraising-fridays-july-25/
LOCATION:via Zoom\, CA
CATEGORIES:The HIVE
ATTACH;FMTTYPE=image/png:https://leichtag.org/wp-content/uploads/2023/05/Fundraising-Fridays-Insta-Web.png
END:VEVENT
BEGIN:VEVENT
DTSTART;TZID=America/Los_Angeles:20250722T090000
DTEND;TZID=America/Los_Angeles:20250722T170000
DTSTAMP:20260420T033017
CREATED:20250124T020905Z
LAST-MODIFIED:20250124T021904Z
UID:17554-1753174800-1753203600@leichtag.org
SUMMARY:JPro San Diego Coworking at Jewish Family Service
DESCRIPTION:You are invited to experience the power of coworking including: productive eavesdropping\, positive collisions\, and unanticipated connections. Join your colleagues from Jewish organizations across San Diego and experience a day in the life of Jewish Family Service of San Diego. Come and go as needed\, our coworking days are designed to be flexible to work best with your schedule! \n*Limited space available for private calls. Please let Paige (paige@thehivesd.org) know in advance if you will be needing a private space. \nJewish Family Service of San Diego\n8804 Balboa Ave\, San Diego\, CA 92123 \nBrain Dates: Personalized Advice for Your Professional Development\nOur jobs come with real challenges\, and it can be hard to find quick advice. Sometimes\, you need an hour with someone who has been there before for objectivity and support. Schedule some one-on-one time at an upcoming JPro Co-Working Day to discuss issues related to your organization’s strategy\, governance\, communications\, programming\, fundraising\, and more. We’ll connect you to long-time Jewish communal professionals who have been there—and now are here for you. \n\nSchedule a Brain Date with Sharyn Goodson: Sharyn has over 25 years of experience in philanthropy\, program design and delivery\, organizational development\, and nonprofit fundraising. She is passionate about strengthening the ability of philanthropists and mission-driven organizations to achieve results in addressing society’s challenges and opportunities. Sharyn currently serves as Vice President of Philanthropy for both Impact Cubed and Leichtag Foundation where she manages grantmaking\, leads funder partnerships\, and trains and counsels nonprofits on revenue generation\, board and organizational development\, as well as program design and evaluation. Learn more about Sharyn here. \nSchedule a Brain Date with Jessica Kort: Jessica has 15 years of experience in philanthropy\, organizational strategy and management\, nonprofit governance\, and Jewish communal professional work. She currently serves as Director of Communications and Strategy for Impact Cubed and Leichtag Foundation where she oversees communications for the Foundation and its initiatives\, develops giving opportunities for community members\, streamlines the vision and purposes for Leichtag Commons\, and designs ways for the Foundation to increase its impact and leverage across funding areas. Learn more about Jessica here. \n\n﻿﻿﻿﻿
URL:https://leichtag.org/event/jpro-san-diego-coworking-at-jfs/
LOCATION:Jewish Family Service\, 8804 Balboa Ave\, San Diego\, 92123\, United States
CATEGORIES:JPro
ATTACH;FMTTYPE=image/png:https://leichtag.org/wp-content/uploads/2025/01/JPro-Coworking-at-JFS.png
END:VEVENT
BEGIN:VEVENT
DTSTART;TZID=America/Los_Angeles:20250718T090000
DTEND;TZID=America/Los_Angeles:20250718T100000
DTSTAMP:20260420T033017
CREATED:20250716T185204Z
LAST-MODIFIED:20250716T185204Z
UID:17680-1752829200-1752832800@leichtag.org
SUMMARY:Fundraising Fridays
DESCRIPTION:Join local colleagues in philanthropy for this informal\, virtual time to check in with one another\, ask questions\, and get advice on fundraising matters. \n  \n \n  \n﻿﻿﻿﻿
URL:https://leichtag.org/event/fundraising-fridays-july-18/
LOCATION:via Zoom\, CA
CATEGORIES:The HIVE
ATTACH;FMTTYPE=image/png:https://leichtag.org/wp-content/uploads/2023/05/Fundraising-Fridays-Insta-Web.png
END:VEVENT
BEGIN:VEVENT
DTSTART;TZID=America/Los_Angeles:20250627T090000
DTEND;TZID=America/Los_Angeles:20250627T100000
DTSTAMP:20260420T033017
CREATED:20241116T003150Z
LAST-MODIFIED:20241116T003150Z
UID:17446-1751014800-1751018400@leichtag.org
SUMMARY:Fundraising Fridays
DESCRIPTION:Join local colleagues in philanthropy for this informal\, virtual time to check in with one another\, ask questions\, and get advice on fundraising matters. \n  \n \n  \n﻿﻿﻿﻿﻿﻿﻿﻿﻿﻿﻿﻿﻿﻿﻿﻿﻿﻿﻿﻿﻿﻿﻿﻿﻿﻿﻿﻿﻿﻿﻿﻿﻿﻿﻿﻿﻿﻿﻿﻿﻿﻿﻿﻿
URL:https://leichtag.org/event/fundraising-fridays-june-27-25/
LOCATION:via Zoom\, CA
CATEGORIES:The HIVE
ATTACH;FMTTYPE=image/png:https://leichtag.org/wp-content/uploads/2023/05/Fundraising-Fridays-Insta-Web.png
END:VEVENT
BEGIN:VEVENT
DTSTART;TZID=America/Los_Angeles:20250620T090000
DTEND;TZID=America/Los_Angeles:20250620T100000
DTSTAMP:20260420T033017
CREATED:20241116T002808Z
LAST-MODIFIED:20241116T002808Z
UID:17444-1750410000-1750413600@leichtag.org
SUMMARY:Fundraising Fridays
DESCRIPTION:Join local colleagues in philanthropy for this informal\, virtual time to check in with one another\, ask questions\, and get advice on fundraising matters. \n  \n \n  \n﻿﻿﻿﻿﻿﻿﻿﻿﻿﻿﻿﻿﻿﻿﻿﻿﻿﻿﻿﻿﻿﻿﻿﻿﻿﻿﻿﻿﻿﻿﻿﻿﻿﻿﻿﻿﻿﻿﻿﻿﻿﻿﻿
URL:https://leichtag.org/event/fundraising-fridays-june-20-25/
LOCATION:via Zoom\, CA
CATEGORIES:The HIVE
ATTACH;FMTTYPE=image/png:https://leichtag.org/wp-content/uploads/2023/05/Fundraising-Fridays-Insta-Web.png
END:VEVENT
BEGIN:VEVENT
DTSTART;TZID=America/Los_Angeles:20250613T090000
DTEND;TZID=America/Los_Angeles:20250613T100000
DTSTAMP:20260420T033017
CREATED:20241116T002448Z
LAST-MODIFIED:20241116T002448Z
UID:17442-1749805200-1749808800@leichtag.org
SUMMARY:Fundraising Fridays
DESCRIPTION:Join local colleagues in philanthropy for this informal\, virtual time to check in with one another\, ask questions\, and get advice on fundraising matters. \n  \n \n  \n﻿﻿﻿﻿﻿﻿﻿﻿﻿﻿﻿﻿﻿﻿﻿﻿﻿﻿﻿﻿﻿﻿﻿﻿﻿﻿﻿﻿﻿﻿﻿﻿﻿﻿﻿﻿﻿﻿﻿﻿﻿﻿
URL:https://leichtag.org/event/fundraising-fridays-june-13-25/
LOCATION:via Zoom\, CA
CATEGORIES:The HIVE
ATTACH;FMTTYPE=image/png:https://leichtag.org/wp-content/uploads/2023/05/Fundraising-Fridays-Insta-Web.png
END:VEVENT
BEGIN:VEVENT
DTSTART;TZID=America/Los_Angeles:20250606T090000
DTEND;TZID=America/Los_Angeles:20250606T100000
DTSTAMP:20260420T033017
CREATED:20241116T002128Z
LAST-MODIFIED:20241116T002128Z
UID:17440-1749200400-1749204000@leichtag.org
SUMMARY:Fundraising Fridays
DESCRIPTION:Join local colleagues in philanthropy for this informal\, virtual time to check in with one another\, ask questions\, and get advice on fundraising matters. \n  \n \n  \n﻿﻿﻿﻿﻿﻿﻿﻿﻿﻿﻿﻿﻿﻿﻿﻿﻿﻿﻿﻿﻿﻿﻿﻿﻿﻿﻿﻿﻿﻿﻿﻿﻿﻿﻿﻿﻿﻿﻿﻿﻿
URL:https://leichtag.org/event/fundraising-fridays-june-6-25/
LOCATION:via Zoom\, CA
CATEGORIES:The HIVE
ATTACH;FMTTYPE=image/png:https://leichtag.org/wp-content/uploads/2023/05/Fundraising-Fridays-Insta-Web.png
END:VEVENT
BEGIN:VEVENT
DTSTART;TZID=America/Los_Angeles:20250530T090000
DTEND;TZID=America/Los_Angeles:20250530T100000
DTSTAMP:20260420T033017
CREATED:20241116T001330Z
LAST-MODIFIED:20241116T001330Z
UID:17438-1748595600-1748599200@leichtag.org
SUMMARY:Fundraising Fridays
DESCRIPTION:Join local colleagues in philanthropy for this informal\, virtual time to check in with one another\, ask questions\, and get advice on fundraising matters. \n  \n \n  \n﻿﻿﻿﻿﻿﻿﻿﻿﻿﻿﻿﻿﻿﻿﻿﻿﻿﻿﻿﻿﻿﻿﻿﻿﻿﻿﻿﻿﻿﻿﻿﻿﻿﻿﻿﻿﻿﻿﻿﻿
URL:https://leichtag.org/event/fundraising-fridays-may-30-25/
LOCATION:via Zoom\, CA
CATEGORIES:The HIVE
ATTACH;FMTTYPE=image/png:https://leichtag.org/wp-content/uploads/2023/05/Fundraising-Fridays-Insta-Web.png
END:VEVENT
BEGIN:VEVENT
DTSTART;TZID=America/Los_Angeles:20250516T090000
DTEND;TZID=America/Los_Angeles:20250516T100000
DTSTAMP:20260420T033017
CREATED:20241116T000930Z
LAST-MODIFIED:20241116T000930Z
UID:17436-1747386000-1747389600@leichtag.org
SUMMARY:Fundraising Fridays
DESCRIPTION:Join local colleagues in philanthropy for this informal\, virtual time to check in with one another\, ask questions\, and get advice on fundraising matters. \n  \n \n  \n﻿﻿﻿﻿﻿﻿﻿﻿﻿﻿﻿﻿﻿﻿﻿﻿﻿﻿﻿﻿﻿﻿﻿﻿﻿﻿﻿﻿﻿﻿﻿﻿﻿﻿﻿﻿﻿﻿﻿
URL:https://leichtag.org/event/fundraising-fridays-may-16-25/
LOCATION:via Zoom\, CA
CATEGORIES:The HIVE
ATTACH;FMTTYPE=image/png:https://leichtag.org/wp-content/uploads/2023/05/Fundraising-Fridays-Insta-Web.png
END:VEVENT
BEGIN:VEVENT
DTSTART;TZID=America/Los_Angeles:20250509T090000
DTEND;TZID=America/Los_Angeles:20250509T100000
DTSTAMP:20260420T033017
CREATED:20241116T000241Z
LAST-MODIFIED:20241116T000241Z
UID:17434-1746781200-1746784800@leichtag.org
SUMMARY:Fundraising Fridays
DESCRIPTION:Join local colleagues in philanthropy for this informal\, virtual time to check in with one another\, ask questions\, and get advice on fundraising matters. \n  \n \n  \n﻿﻿﻿﻿﻿﻿﻿﻿﻿﻿﻿﻿﻿﻿﻿﻿﻿﻿﻿﻿﻿﻿﻿﻿﻿﻿﻿﻿﻿﻿﻿﻿﻿﻿﻿﻿﻿﻿
URL:https://leichtag.org/event/fundraising-fridays-may-9-25/
LOCATION:via Zoom\, CA
CATEGORIES:The HIVE
ATTACH;FMTTYPE=image/png:https://leichtag.org/wp-content/uploads/2023/05/Fundraising-Fridays-Insta-Web.png
END:VEVENT
BEGIN:VEVENT
DTSTART;VALUE=DATE:20250505
DTEND;VALUE=DATE:20250508
DTSTAMP:20260420T033017
CREATED:20250118T011936Z
LAST-MODIFIED:20250122T184626Z
UID:17512-1746403200-1746662399@leichtag.org
SUMMARY:JPro25 Conference with JPro San Diego
DESCRIPTION:Join JPro San Diego’s delegation for the JPro25 Conference! \nJPro25 in partnership with Jewish Federations is the signature gathering for Jewish community professionals. It will be a vital source of connection\, learning\, and field-building. \nThis conference will gather 1\,000 Jewish professionals in Baltimore\, MD from May 5-7\, 2025. We will celebrate the rich diversity within our sector and welcome professionals of all races\, cultures\, faiths\, genders\, sexual identities\, and abilities. JPro25 is intended to honor the vital work of our field and provide an opportunity for us to come together to learn and connect. JPro25 aims to foster a culture of belonging for all people within our communal spaces while bridging across social groups to deepen our understanding and appreciation for one another. \nThe opportunity to come together in person not only invigorates our work\, but also reignites the passion and purpose that drives us forward. In the context of the fractured world that Jewish communal professionals are facing following October 7\, 2023\, JPro25 will lean into hope and opportunity\, connection and community\, and the vision needed to shape a vibrant future for our sector and the Jewish people. \nSubsidies for the conference are available\, please contact Paige (paige@thehivesd.org) if you are interested in learning more! \n  \n\n 
URL:https://leichtag.org/event/jpro-25-conference/
LOCATION:Baltimore\, Maryland\, Baltimore\, Maryland
CATEGORIES:JPro
ATTACH;FMTTYPE=image/png:https://leichtag.org/wp-content/uploads/2025/01/Sunset-and-Celebration-Insta-and-Web.png
END:VEVENT
BEGIN:VEVENT
DTSTART;TZID=America/Los_Angeles:20250502T090000
DTEND;TZID=America/Los_Angeles:20250502T100000
DTSTAMP:20260420T033017
CREATED:20241115T235856Z
LAST-MODIFIED:20241115T235856Z
UID:17432-1746176400-1746180000@leichtag.org
SUMMARY:Fundraising Fridays
DESCRIPTION:Join local colleagues in philanthropy for this informal\, virtual time to check in with one another\, ask questions\, and get advice on fundraising matters. \n  \n \n  \n﻿﻿﻿﻿﻿﻿﻿﻿﻿﻿﻿﻿﻿﻿﻿﻿﻿﻿﻿﻿﻿﻿﻿﻿﻿﻿﻿﻿﻿﻿﻿﻿﻿﻿﻿﻿﻿
URL:https://leichtag.org/event/fundraising-fridays-may-2-25/
LOCATION:via Zoom\, CA
CATEGORIES:The HIVE
ATTACH;FMTTYPE=image/png:https://leichtag.org/wp-content/uploads/2023/05/Fundraising-Fridays-Insta-Web.png
END:VEVENT
BEGIN:VEVENT
DTSTART;TZID=America/Los_Angeles:20250425T090000
DTEND;TZID=America/Los_Angeles:20250425T100000
DTSTAMP:20260420T033017
CREATED:20241115T235526Z
LAST-MODIFIED:20241115T235526Z
UID:17430-1745571600-1745575200@leichtag.org
SUMMARY:Fundraising Fridays
DESCRIPTION:Join local colleagues in philanthropy for this informal\, virtual time to check in with one another\, ask questions\, and get advice on fundraising matters. \n  \n \n  \n﻿﻿﻿﻿﻿﻿﻿﻿﻿﻿﻿﻿﻿﻿﻿﻿﻿﻿﻿﻿﻿﻿﻿﻿﻿﻿﻿﻿﻿﻿﻿﻿﻿﻿﻿﻿
URL:https://leichtag.org/event/fundraising-fridays-apr-25-25/
LOCATION:via Zoom\, CA
CATEGORIES:The HIVE
ATTACH;FMTTYPE=image/png:https://leichtag.org/wp-content/uploads/2023/05/Fundraising-Fridays-Insta-Web.png
END:VEVENT
BEGIN:VEVENT
DTSTART;TZID=America/Los_Angeles:20250418T090000
DTEND;TZID=America/Los_Angeles:20250418T100000
DTSTAMP:20260420T033017
CREATED:20241115T235132Z
LAST-MODIFIED:20241115T235132Z
UID:17428-1744966800-1744970400@leichtag.org
SUMMARY:Fundraising Fridays
DESCRIPTION:Join local colleagues in philanthropy for this informal\, virtual time to check in with one another\, ask questions\, and get advice on fundraising matters. \n  \n \n  \n﻿﻿﻿﻿﻿﻿﻿﻿﻿﻿﻿﻿﻿﻿﻿﻿﻿﻿﻿﻿﻿﻿﻿﻿﻿﻿﻿﻿﻿﻿﻿﻿﻿﻿﻿
URL:https://leichtag.org/event/fundraising-fridays-apr-18-25/
LOCATION:via Zoom\, CA
CATEGORIES:The HIVE
ATTACH;FMTTYPE=image/png:https://leichtag.org/wp-content/uploads/2023/05/Fundraising-Fridays-Insta-Web.png
END:VEVENT
BEGIN:VEVENT
DTSTART;TZID=America/Los_Angeles:20250411T090000
DTEND;TZID=America/Los_Angeles:20250411T100000
DTSTAMP:20260420T033017
CREATED:20241115T234729Z
LAST-MODIFIED:20241115T234729Z
UID:17426-1744362000-1744365600@leichtag.org
SUMMARY:Fundraising Fridays
DESCRIPTION:Join local colleagues in philanthropy for this informal\, virtual time to check in with one another\, ask questions\, and get advice on fundraising matters. \n  \n \n  \n﻿﻿﻿﻿﻿﻿﻿﻿﻿﻿﻿﻿﻿﻿﻿﻿﻿﻿﻿﻿﻿﻿﻿﻿﻿﻿﻿﻿﻿﻿﻿﻿﻿﻿
URL:https://leichtag.org/event/fundraising-fridays-apr-11-25/
LOCATION:via Zoom\, CA
CATEGORIES:The HIVE
ATTACH;FMTTYPE=image/png:https://leichtag.org/wp-content/uploads/2023/05/Fundraising-Fridays-Insta-Web.png
END:VEVENT
END:VCALENDAR